BEGIN:VCALENDAR
VERSION:2.0
PRODID:-//Real English Party Online - ECPv6.15.20//NONSGML v1.0//EN
CALSCALE:GREGORIAN
METHOD:PUBLISH
X-WR-CALNAME:Real English Party Online
X-ORIGINAL-URL:https://www.realenglishparty.com
X-WR-CALDESC:Events for Real English Party Online
REFRESH-INTERVAL;VALUE=DURATION:PT1H
X-Robots-Tag:noindex
X-PUBLISHED-TTL:PT1H
BEGIN:VTIMEZONE
TZID:Asia/Tokyo
BEGIN:STANDARD
TZOFFSETFROM:+0900
TZOFFSETTO:+0900
TZNAME:JST
DTSTART:20250101T000000
END:STANDARD
END:VTIMEZONE
BEGIN:VEVENT
DTSTART;TZID=Asia/Tokyo:20260425T120000
DTEND;TZID=Asia/Tokyo:20260425T140000
DTSTAMP:20260425T012253
CREATED:20260414T083828Z
LAST-MODIFIED:20260414T085214Z
UID:9273-1777118400-1777125600@www.realenglishparty.com
SUMMARY:Real English Oyster Lunch Party at UEHIRO
DESCRIPTION:Looking for a more extravagant English speaking experience?\nTry the\nReal English Oyster Lunch Party\nat UOHIRO!\nClick HERE for a reasonable alternative \nHere\, we will engage in our usual\, everyday English conversation\, but over an all-you-can eat oyster lunch at a delicious seafood restaurant.\nWe’ve found UOHIRO to be the perfect place for a weekend lunch party in Atsugi (1 minute from Hon-Atsugi Station).\nLet’s talk about family\, friends\, food and fun topics of your choice!\nParty pending a 3 person minimum attendance so…\nInvite a Friend!\n \nTo add your name to the party list\,\njust submit the following information:\n\n\n  \n\n\n\n Your name\n \n \n Your email\n \n \n Party Name and Date\n \n \n How would you like to pay?\n \n \n\n Δ \n\n\n\n\nOR…\nWhy not arrange your own\nReal English Party?\nIf you have up to 5 friends and a location in mind that can accommodate in the Tokyo/Kanagawa area\, inquire here about having Real English Party host it!\n\n\n  \n\n\n\n Your name\n \n \n Your email\n \n \n Party Date\n \n \n Party Time \n1:00〜3:00 pm2:00〜4:00 pm3:00〜5:00 pm4:00〜6:00 pm5:00〜7:00 pm6:00〜 8:00 pm7:00〜9:00 pm\n \n Location/Details　(Only in the Tokyo/Kanagawa area)\n \n \n Number of Guests\n—Please choose an option—12345\n \n Your message (optional)\n \n \nPlease prove you are human by selecting the house.\n    \n    \n        \n    \n \n\n Δ
URL:https://www.realenglishparty.com/event/real-english-oyster-lunch-party-at-uehiro/
LOCATION:Kaisen bistro & Beergarden Uohiro Honatsugi\, 2-1-18\, Nakacho\, Atsugi\, Kanagawa Prefecture\, 243-0018\, Japan
ATTACH;FMTTYPE=image/jpeg:https://www.realenglishparty.com/wp-content/uploads/2026/04/Uohiro.jpg
END:VEVENT
END:VCALENDAR